BEGIN:VCALENDAR
VERSION:2.0
PRODID:-//dcadv.org//NONSGML kigkonsult.se iCalcreator 2.30.10//
CALSCALE:GREGORIAN
METHOD:PUBLISH
UID:b45f64f4-7834-46f5-8aa8-9ff4cce0a68b
X-WR-CALDESC:DCADV's office will be closed on Monday\, February 17\, 2020 i
 n observance of Presidents' Day.\n\nDelaware's domestic violence hotlines 
 are available 24/7 to assist those in need of support.\n\nNew Castle Count
 y: 302-762-6110\nKent and Sussex Counties: 302-422-8058\nAbriendo Puertas 
 (Kent and Sussex): 302-745-9874
X-WR-RELCALID:21e25c258b6696bb6286a87800fca711
X-WR-TIMEZONE:America/New_York
BEGIN:VTIMEZONE
TZID:America/New_York
BEGIN:STANDARD
TZNAME:EST
DTSTART:20191103T020000
TZOFFSETFROM:-0400
TZOFFSETTO:-0500
RDATE:20201101T020000
END:STANDARD
BEGIN:DAYLIGHT
TZNAME:EDT
DTSTART:20190310T020000
TZOFFSETFROM:-0500
TZOFFSETTO:-0400
RDATE:20200308T020000
RDATE:20210314T020000
END:DAYLIGHT
END:VTIMEZONE
BEGIN:VEVENT
UID:15908282-145d-4c79-ad47-11b8b44c7e6d
DTSTAMP:20260421T210726Z
DESCRIPTION:DCADV's office will be closed on Monday\, February 17\, 2020 in
  observance of Presidents' Day.\n\nDelaware's domestic violence hotlines a
 re available 24/7 to assist those in need of support.\n\nNew Castle County
 : 302-762-6110\nKent and Sussex Counties: 302-422-8058\nAbriendo Puertas (
 Kent and Sussex): 302-745-9874
DTSTART;TZID=America/New_York:20200217T000000
DTEND;TZID=America/New_York:20200217T235900
LOCATION:
SUMMARY:DCADV Office Closed
END:VEVENT
END:VCALENDAR
