BEGIN:VCALENDAR
VERSION:2.0
PRODID:-//dcadv.org//NONSGML kigkonsult.se iCalcreator 2.30.10//
CALSCALE:GREGORIAN
METHOD:PUBLISH
UID:51ee5168-ea3f-4a31-82f8-071bc19aa48e
X-WR-CALDESC:Safety planning is one of the most critical and essential serv
 ices we can offer to victims/survivors of domestic violence. Join DCADV an
 d the Training Subcommittee of the Delaware Domestic Violence Task Force f
 or a series of lunch-and-learn workshops to explore safety planning from a
  variety of perspectives.\n\nThe fifth session will focus on 'Safety Plann
 ing & Teens.' \n\nThere is no cost to attend\, but registration is require
 d as space is very limited. If the training fills\, we will start a waitin
 g list.\nAttendees are invited to bring a brown bag lunch (lunch will not 
 be provided).
X-WR-RELCALID:f0bcc96f0154f87bb77fef4890b93cd2
X-WR-TIMEZONE:America/New_York
BEGIN:VTIMEZONE
TZID:America/New_York
BEGIN:STANDARD
TZNAME:EST
DTSTART:20191103T020000
TZOFFSETFROM:-0400
TZOFFSETTO:-0500
RDATE:20201101T020000
END:STANDARD
BEGIN:DAYLIGHT
TZNAME:EDT
DTSTART:20190310T020000
TZOFFSETFROM:-0500
TZOFFSETTO:-0400
RDATE:20200308T020000
RDATE:20210314T020000
END:DAYLIGHT
END:VTIMEZONE
BEGIN:VEVENT
UID:2c49eb40-2e83-4314-80d2-fdede2036777
DTSTAMP:20260421T193621Z
DESCRIPTION:Safety planning is one of the most critical and essential servi
 ces we can offer to victims/survivors of domestic violence. Join DCADV and
  the Training Subcommittee of the Delaware Domestic Violence Task Force fo
 r a series of lunch-and-learn workshops to explore safety planning from a 
 variety of perspectives.\n\nThe fifth session will focus on 'Safety Planni
 ng & Teens.' \n\nThere is no cost to attend\, but registration is required
  as space is very limited. If the training fills\, we will start a waiting
  list.\nAttendees are invited to bring a brown bag lunch (lunch will not b
 e provided).
DTSTART;TZID=America/New_York:20200219T123000
DTEND;TZID=America/New_York:20200219T140000
LOCATION:Middletown Police Department\, Middletown\, DE
SUMMARY:Safety Planning and Teens
END:VEVENT
END:VCALENDAR
