BEGIN:VCALENDAR
VERSION:2.0
PRODID:-//dcadv.org//NONSGML kigkonsult.se iCalcreator 2.30.10//
CALSCALE:GREGORIAN
METHOD:PUBLISH
UID:be9da5a4-5379-4c52-85c5-d8d666526c6f
X-WR-CALDESC:<b>THIS SESSION HAS BEEN POSTPONED.  NEW DATE TBD.</b>\n\nSafe
 ty planning is one of the most critical and essential services we can offe
 r to victims/survivors of domestic violence. Join DCADV and the Training S
 ubcommittee of the Delaware Domestic Violence Task Force for a series of l
 unch-and-learn workshops to explore safety planning from a variety of pers
 pectives.\n\nThe sixth session will focus on 'Safety Planning & Finances.'
 \n\nThere is no cost to attend\, but registration is required as space is 
 limited. If the training fills\, we will start a waiting list.
X-WR-RELCALID:00a6c010f6ae3faba80a1e6b78277fac
X-WR-TIMEZONE:America/New_York
BEGIN:VTIMEZONE
TZID:America/New_York
BEGIN:STANDARD
TZNAME:EST
DTSTART:20191103T020000
TZOFFSETFROM:-0400
TZOFFSETTO:-0500
RDATE:20201101T020000
END:STANDARD
BEGIN:DAYLIGHT
TZNAME:EDT
DTSTART:20200308T020000
TZOFFSETFROM:-0500
TZOFFSETTO:-0400
RDATE:20210314T020000
END:DAYLIGHT
END:VTIMEZONE
BEGIN:VEVENT
UID:470bbb7d-7b09-44fc-ae1b-385e80fb497f
DTSTAMP:20260421T173417Z
DESCRIPTION:<b>THIS SESSION HAS BEEN POSTPONED.  NEW DATE TBD.</b>\n\nSafet
 y planning is one of the most critical and essential services we can offer
  to victims/survivors of domestic violence. Join DCADV and the Training Su
 bcommittee of the Delaware Domestic Violence Task Force for a series of lu
 nch-and-learn workshops to explore safety planning from a variety of persp
 ectives.\n\nThe sixth session will focus on 'Safety Planning & Finances.'
 \n\nThere is no cost to attend\, but registration is required as space is 
 limited. If the training fills\, we will start a waiting list.
DTSTART;TZID=America/New_York:20200324T103000
DTEND;TZID=America/New_York:20200324T120000
LOCATION:Dover Public Library\, Dover\, DE
SUMMARY:POSTPONED- Safety Planning & Finances
END:VEVENT
END:VCALENDAR
