BEGIN:VCALENDAR
VERSION:2.0
PRODID:-//dcadv.org//NONSGML kigkonsult.se iCalcreator 2.30.10//
CALSCALE:GREGORIAN
METHOD:PUBLISH
UID:5400c417-9aa8-4ef4-85e9-d205b4d3d334
X-WR-CALDESC:
X-WR-RELCALID:3079f4845a6c2e4e8d47bcb37472c875
X-WR-TIMEZONE:America/New_York
BEGIN:VTIMEZONE
TZID:America/New_York
BEGIN:STANDARD
TZNAME:EST
DTSTART:20191103T020000
TZOFFSETFROM:-0400
TZOFFSETTO:-0500
RDATE:20201101T020000
END:STANDARD
BEGIN:DAYLIGHT
TZNAME:EDT
DTSTART:20200308T020000
TZOFFSETFROM:-0500
TZOFFSETTO:-0400
RDATE:20210314T020000
END:DAYLIGHT
END:VTIMEZONE
BEGIN:VEVENT
UID:30bcf84b-e3b0-488d-ab5b-ea9a2b70e9b0
DTSTAMP:20260421T154712Z
DESCRIPTION:
DTSTART;TZID=America/New_York:20200401T000000
DTEND;TZID=America/New_York:20200401T235900
LOCATION:
SUMMARY:April is Child Abuse Prevention Month
END:VEVENT
END:VCALENDAR
