BEGIN:VCALENDAR
VERSION:2.0
PRODID:-//dcadv.org//NONSGML kigkonsult.se iCalcreator 2.30.10//
CALSCALE:GREGORIAN
METHOD:PUBLISH
UID:0a152fb1-35a7-45a6-ba53-af48afe6b94f
X-WR-CALDESC:
X-WR-RELCALID:3a0ab9cd54c5f745779a06e47ec7616e
X-WR-TIMEZONE:America/New_York
BEGIN:VTIMEZONE
TZID:America/New_York
BEGIN:STANDARD
TZNAME:EST
DTSTART:20191103T020000
TZOFFSETFROM:-0400
TZOFFSETTO:-0500
RDATE:20201101T020000
END:STANDARD
BEGIN:DAYLIGHT
TZNAME:EDT
DTSTART:20200308T020000
TZOFFSETFROM:-0500
TZOFFSETTO:-0400
RDATE:20210314T020000
END:DAYLIGHT
END:VTIMEZONE
BEGIN:VEVENT
UID:de0091d9-0885-46eb-b5d6-79d8c33c5744
DTSTAMP:20260421T172920Z
DESCRIPTION:
DTSTART;TZID=America/New_York:20200401T000000
DTEND;TZID=America/New_York:20200401T235900
LOCATION:
SUMMARY:April is Sexual Assault Awareness Month
END:VEVENT
END:VCALENDAR
