BEGIN:VCALENDAR
VERSION:2.0
PRODID:-//dcadv.org//NONSGML kigkonsult.se iCalcreator 2.30.10//
CALSCALE:GREGORIAN
METHOD:PUBLISH
UID:8ba8ae2c-2ca1-4082-ad05-f69e224ee6e3
X-WR-CALDESC:During this introductory-level webinar\, we will learn what pr
 imary prevention is and explore how it applies to our work in the field of
  domestic/sexual violence. We will examine the risk factors that can lead 
 to sexual violence and/or intimate partner violence.   Finally\, we will d
 iscuss strategies that can be used to create safe and protective relations
 hips and communities to stop the violence before it starts.\n\nVisit https
 ://attendee.gotowebinar.com/register/4759085853512999948 or click the link
  below to register.\n\nThis webinar will be recorded.
X-WR-RELCALID:6ffed8a70b2ba01b032d2594df2211f2
X-WR-TIMEZONE:America/New_York
BEGIN:VTIMEZONE
TZID:America/New_York
BEGIN:STANDARD
TZNAME:EST
DTSTART:20191103T020000
TZOFFSETFROM:-0400
TZOFFSETTO:-0500
RDATE:20201101T020000
END:STANDARD
BEGIN:DAYLIGHT
TZNAME:EDT
DTSTART:20200308T020000
TZOFFSETFROM:-0500
TZOFFSETTO:-0400
RDATE:20210314T020000
END:DAYLIGHT
END:VTIMEZONE
BEGIN:VEVENT
UID:e9297f8b-f15d-4c2c-8cfc-525d65bec482
DTSTAMP:20260421T154712Z
DESCRIPTION:During this introductory-level webinar\, we will learn what pri
 mary prevention is and explore how it applies to our work in the field of 
 domestic/sexual violence. We will examine the risk factors that can lead t
 o sexual violence and/or intimate partner violence.   Finally\, we will di
 scuss strategies that can be used to create safe and protective relationsh
 ips and communities to stop the violence before it starts.\n\nVisit https:
 //attendee.gotowebinar.com/register/4759085853512999948 or click the link 
 below to register.\n\nThis webinar will be recorded.
DTSTART;TZID=America/New_York:20200408T130000
DTEND;TZID=America/New_York:20200408T140000
LOCATION:Webinar
SUMMARY:Webinar: Stopping Violence Before It Starts: Strategies for SV/IPV 
 Prevention
END:VEVENT
END:VCALENDAR
