BEGIN:VCALENDAR
VERSION:2.0
PRODID:-//dcadv.org//NONSGML kigkonsult.se iCalcreator 2.30.10//
CALSCALE:GREGORIAN
METHOD:PUBLISH
UID:b196e70e-6e68-4b62-a5bc-dca0811c5852
X-WR-CALDESC:DCADV's office will be closed on Friday\, April 10\, 2020.\n\n
 Delaware's domestic violence hotlines are available 24/7 to assist those i
 n need of support.\n\nNew Castle County: 302-762-6110\nKent and Sussex Cou
 nties: 302-422-8058\nAbriendo Puertas (Kent and Sussex): 302-745-9874
X-WR-RELCALID:6a0255b06364072295b36ebfdf8dfe67
X-WR-TIMEZONE:America/New_York
BEGIN:VTIMEZONE
TZID:America/New_York
BEGIN:STANDARD
TZNAME:EST
DTSTART:20191103T020000
TZOFFSETFROM:-0400
TZOFFSETTO:-0500
RDATE:20201101T020000
END:STANDARD
BEGIN:DAYLIGHT
TZNAME:EDT
DTSTART:20200308T020000
TZOFFSETFROM:-0500
TZOFFSETTO:-0400
RDATE:20210314T020000
END:DAYLIGHT
END:VTIMEZONE
BEGIN:VEVENT
UID:39be6ed1-01f9-486f-9350-fe889dc3458e
DTSTAMP:20260421T154154Z
DESCRIPTION:DCADV's office will be closed on Friday\, April 10\, 2020.\n\nD
 elaware's domestic violence hotlines are available 24/7 to assist those in
  need of support.\n\nNew Castle County: 302-762-6110\nKent and Sussex Coun
 ties: 302-422-8058\nAbriendo Puertas (Kent and Sussex): 302-745-9874
DTSTART;TZID=America/New_York:20200410T000000
DTEND;TZID=America/New_York:20200410T235900
LOCATION:
SUMMARY:DCADV Office Closed
END:VEVENT
END:VCALENDAR
