BEGIN:VCALENDAR
VERSION:2.0
PRODID:-//dcadv.org//NONSGML kigkonsult.se iCalcreator 2.30.10//
CALSCALE:GREGORIAN
METHOD:PUBLISH
UID:a961db6c-41ae-40ff-a69a-3fd40ccd2c2f
X-WR-CALDESC:
X-WR-RELCALID:3422cf33627b3a5ac213237b30ddb41c
X-WR-TIMEZONE:America/New_York
BEGIN:VTIMEZONE
TZID:America/New_York
BEGIN:STANDARD
TZNAME:EST
DTSTART:20191103T020000
TZOFFSETFROM:-0400
TZOFFSETTO:-0500
RDATE:20201101T020000
END:STANDARD
BEGIN:DAYLIGHT
TZNAME:EDT
DTSTART:20200308T020000
TZOFFSETFROM:-0500
TZOFFSETTO:-0400
RDATE:20210314T020000
END:DAYLIGHT
END:VTIMEZONE
BEGIN:VEVENT
UID:a25a1b77-b5c0-4618-9906-2e38d65ff1fa
DTSTAMP:20260421T173752Z
DESCRIPTION:
DTSTART;TZID=America/New_York:20200419T000000
DTEND;TZID=America/New_York:20200425T235900
LOCATION:
SUMMARY:National Crime Victims' Rights Week
END:VEVENT
END:VCALENDAR
