BEGIN:VCALENDAR
VERSION:2.0
PRODID:-//dcadv.org//NONSGML kigkonsult.se iCalcreator 2.30.10//
CALSCALE:GREGORIAN
METHOD:PUBLISH
UID:e3e9fc0e-d100-46cc-a1ee-e8f55e137b94
X-WR-CALDESC:
X-WR-RELCALID:9041bcd07f2d2ac81095aed34e13b486
X-WR-TIMEZONE:America/New_York
BEGIN:VTIMEZONE
TZID:America/New_York
BEGIN:STANDARD
TZNAME:EST
DTSTART:20191103T020000
TZOFFSETFROM:-0400
TZOFFSETTO:-0500
RDATE:20201101T020000
END:STANDARD
BEGIN:DAYLIGHT
TZNAME:EDT
DTSTART:20200308T020000
TZOFFSETFROM:-0500
TZOFFSETTO:-0400
RDATE:20210314T020000
END:DAYLIGHT
END:VTIMEZONE
BEGIN:VEVENT
UID:6948e489-33cc-4f07-ab89-d2048f6200ff
DTSTAMP:20260421T135010Z
DESCRIPTION:
DTSTART;TZID=America/New_York:20200501T000000
DTEND;TZID=America/New_York:20200501T235900
LOCATION:
SUMMARY:May is National Trauma Awareness Month
END:VEVENT
END:VCALENDAR
