BEGIN:VCALENDAR
VERSION:2.0
PRODID:-//dcadv.org//NONSGML kigkonsult.se iCalcreator 2.30.10//
CALSCALE:GREGORIAN
METHOD:PUBLISH
UID:bf907e9c-3239-4769-a29e-2415928d77d7
X-WR-CALDESC:Guest Presenters:\n<ul><li>Nikki Kress\, RPE Program Manager\,
  DCADV</li>\n<li>Brooke Ophardt\, Training & Prevention Specialist\, DCADV
 </li>\n</ul>\nDuring this webinar\, we explore how economic justice initia
 tives are an integral part of our work to prevent sexual and intimate part
 ner violence (SV/IPV).  We examine the risk factors for and the effects of
  SV/IPV on the community. We also look at protective strategies that stren
 gthen economic opportunities for women and girls that can lead to preventi
 ng SV/IPV.   Finally\, we discuss policies and programs put in place in De
 laware and other states that focus on eliminating some of the risk factors
  for SV/IPV.
X-WR-RELCALID:990fb639f795f8305d932a428f62af88
X-WR-TIMEZONE:America/New_York
BEGIN:VTIMEZONE
TZID:America/New_York
BEGIN:STANDARD
TZNAME:EST
DTSTART:20191103T020000
TZOFFSETFROM:-0400
TZOFFSETTO:-0500
RDATE:20201101T020000
RDATE:20211107T020000
END:STANDARD
BEGIN:DAYLIGHT
TZNAME:EDT
DTSTART:20200308T020000
TZOFFSETFROM:-0500
TZOFFSETTO:-0400
RDATE:20210314T020000
END:DAYLIGHT
END:VTIMEZONE
BEGIN:VEVENT
UID:abffebce-2feb-4ba2-872f-5fa7d2670159
DTSTAMP:20260421T134941Z
DESCRIPTION:Guest Presenters:\n<ul><li>Nikki Kress\, RPE Program Manager\, 
 DCADV</li>\n<li>Brooke Ophardt\, Training & Prevention Specialist\, DCADV<
 /li>\n</ul>\nDuring this webinar\, we explore how economic justice initiat
 ives are an integral part of our work to prevent sexual and intimate partn
 er violence (SV/IPV).  We examine the risk factors for and the effects of 
 SV/IPV on the community. We also look at protective strategies that streng
 then economic opportunities for women and girls that can lead to preventin
 g SV/IPV.   Finally\, we discuss policies and programs put in place in Del
 aware and other states that focus on eliminating some of the risk factors 
 for SV/IPV.
DTSTART;TZID=America/New_York:20200508T100000
DTEND;TZID=America/New_York:20200508T110000
LOCATION:Webinar
SUMMARY:Webinar: A Strong Economic Foundation: A Preventative Approach to S
 V/IPV
END:VEVENT
END:VCALENDAR
