BEGIN:VCALENDAR
VERSION:2.0
PRODID:-//dcadv.org//NONSGML kigkonsult.se iCalcreator 2.30.10//
CALSCALE:GREGORIAN
METHOD:PUBLISH
UID:cec8ac5c-a0ef-4903-bfa5-96419448653d
X-WR-CALDESC:DCADV's office will be closed on Monday\, May 25\, 2020 in obs
 ervance of Memorial Day.\n\nDelaware's domestic violence hotlines are avai
 lable 24/7 to assist those in need of support.\n\nNew Castle County: 302-7
 62-6110\nKent and Sussex Counties: 302-422-8058\nAbriendo Puertas (Kent an
 d Sussex): 302-745-9874
X-WR-RELCALID:0d7e3df1e8b1ea80c5d9b6e91705bd2a
X-WR-TIMEZONE:America/New_York
BEGIN:VTIMEZONE
TZID:America/New_York
BEGIN:STANDARD
TZNAME:EST
DTSTART:20191103T020000
TZOFFSETFROM:-0400
TZOFFSETTO:-0500
RDATE:20201101T020000
RDATE:20211107T020000
END:STANDARD
BEGIN:DAYLIGHT
TZNAME:EDT
DTSTART:20200308T020000
TZOFFSETFROM:-0500
TZOFFSETTO:-0400
RDATE:20210314T020000
END:DAYLIGHT
END:VTIMEZONE
BEGIN:VEVENT
UID:9473f83f-f41e-4000-affa-08d8d77ed222
DTSTAMP:20260421T134803Z
DESCRIPTION:DCADV's office will be closed on Monday\, May 25\, 2020 in obse
 rvance of Memorial Day.\n\nDelaware's domestic violence hotlines are avail
 able 24/7 to assist those in need of support.\n\nNew Castle County: 302-76
 2-6110\nKent and Sussex Counties: 302-422-8058\nAbriendo Puertas (Kent and
  Sussex): 302-745-9874
DTSTART;TZID=America/New_York:20200525T000000
DTEND;TZID=America/New_York:20200525T235900
LOCATION:
SUMMARY:DCADV Office Closed
END:VEVENT
END:VCALENDAR
