BEGIN:VCALENDAR
VERSION:2.0
PRODID:-//dcadv.org//NONSGML kigkonsult.se iCalcreator 2.30.10//
CALSCALE:GREGORIAN
METHOD:PUBLISH
UID:f095b21b-5f88-4981-a644-4ac465df565b
X-WR-CALDESC:Transformation of personal trauma experiences can serve to str
 engthen your skills as an advocate. You are alive\, so you have experience
 d trauma\; how you choose to use those experiences for your work will eith
 er burn you out or make you a stronger advocate. The process of transformi
 ng traumas can be exhausting\, but what if it could be accelerated? Using 
 Life Coaching principles to guide the journey\, you can work through as fa
 st or as slow as you choose. During this webinar\, you will learn the 4 st
 eps in the Quantam Life Quantam Healing method and leave with a structure 
 for its implementation.\n\n<b>Presenter:</b> Kerry McElwee\, <i>Life Maste
 ry Consultant\, Dream Coaching</i>\nKerry McElwee has been a featured blog
 ger and presenter in victim advocate trainings. She has appeared on Delawa
 re Today and\npresented at the National Crime Victim Center Annual Confere
 nce. Kerry holds a Masters of Forensic Psychology and has worked as\nvicti
 m advocate for the past 25 years both at People's Place and Department of 
 Justice\, and is now integrating Life Mastery Consultant to\nround out hel
 ping victims transform trauma experiences.\n
X-WR-RELCALID:da3949de5ff2dabbbf2074a69779319f
X-WR-TIMEZONE:America/New_York
BEGIN:VTIMEZONE
TZID:America/New_York
BEGIN:STANDARD
TZNAME:EST
DTSTART:20191103T020000
TZOFFSETFROM:-0400
TZOFFSETTO:-0500
RDATE:20201101T020000
RDATE:20211107T020000
END:STANDARD
BEGIN:DAYLIGHT
TZNAME:EDT
DTSTART:20200308T020000
TZOFFSETFROM:-0500
TZOFFSETTO:-0400
RDATE:20210314T020000
END:DAYLIGHT
END:VTIMEZONE
BEGIN:VEVENT
UID:c5cdc541-5e61-4e9d-b7e7-1438989786d5
DTSTAMP:20260421T115911Z
DESCRIPTION:Transformation of personal trauma experiences can serve to stre
 ngthen your skills as an advocate. You are alive\, so you have experienced
  trauma\; how you choose to use those experiences for your work will eithe
 r burn you out or make you a stronger advocate. The process of transformin
 g traumas can be exhausting\, but what if it could be accelerated? Using L
 ife Coaching principles to guide the journey\, you can work through as fas
 t or as slow as you choose. During this webinar\, you will learn the 4 ste
 ps in the Quantam Life Quantam Healing method and leave with a structure f
 or its implementation.\n\n<b>Presenter:</b> Kerry McElwee\, <i>Life Master
 y Consultant\, Dream Coaching</i>\nKerry McElwee has been a featured blogg
 er and presenter in victim advocate trainings. She has appeared on Delawar
 e Today and\npresented at the National Crime Victim Center Annual Conferen
 ce. Kerry holds a Masters of Forensic Psychology and has worked as\nvictim
  advocate for the past 25 years both at People's Place and Department of J
 ustice\, and is now integrating Life Mastery Consultant to\nround out help
 ing victims transform trauma experiences.\n
DTSTART;TZID=America/New_York:20200611T100000
DTEND;TZID=America/New_York:20200611T113000
LOCATION:Webinar
SUMMARY:Webinar- A Healing Life: Self-Care for Trauma Survivors
END:VEVENT
END:VCALENDAR
