BEGIN:VCALENDAR
VERSION:2.0
PRODID:-//dcadv.org//NONSGML kigkonsult.se iCalcreator 2.30.10//
CALSCALE:GREGORIAN
METHOD:PUBLISH
UID:2ea8282b-54b4-4d8b-9da3-b84ea1d39262
X-WR-CALDESC:<b>Due to the current public health crisis\, we have canceled 
 this training.  We hope to be able to hold our September 16-17 session as 
 scheduled. </b>\n\nDCADV offers a semi-annual two-day Domestic Violence 10
 1 (DV101) Training.  DV101 is the Coalition’s signature training event and
  attracts a multidisciplinary audience from across the state.  Participant
 s typically include domestic violence service providers\, nonprofit organi
 zations\, law enforcement agencies\, and state employees working on issues
  ranging from behavioral health services to human resources to the crimina
 l justice system.  DV101 provides an overview of the dynamics and prevalen
 ce of domestic violence\, and teaches participants effective advocacy skil
 ls that support safety and empowerment across systems.  \n\nTopics covered
  during the training include:\n- History & Culture of Domestic Violence\n-
  Dynamics of Abusive Relationships\n- Empowerment Advocacy\n- Risk Assessm
 ent\n- Safety Planning\n- Community Resources\n- Criminal Justice and Civi
 l Justice Systems\n- Protection from Abuse Orders\n- Trauma-Informed Servi
 ces\n- Prevention & Social Change\n\n<b>Dates:</b>\nTuesday\, June 23 and 
 Wednesday\, June 24\, 2020\n\n<b>Location:</b>\nCommunity Service Building
 \n100 W. 10th St.\, Room 105\nWilmington\, DE 19801\n\n<b>Times:</b>\n8:30
  a.m. - 9:00 a.m. Registration/Check In\n9:00 a.m. - 4:00 p.m. Workshop wi
 th breaks\n<i>*Lunch will not be provided.  There will be a 75-minute brea
 k for lunch.  Participants may leave the training facility to purchase a m
 eal or bring a packed lunch.</i>\n\n<b>Registration Fees:</b>\n$40.00 (bot
 h days)- Delaware Certified Domestic Violence Specialists\, DCADV Member O
 rganizations\, and Current DCADV Supporting Members\n$50.00 (both days)- N
 onmembers\n<i>Not sure if you're a member? </i>  <a href='https://dcadv.or
 g/who-we-are/members/current-members.html'>Click here to view a list of ou
 r current members </a> \n\n*Single day registration is also available ($20
  for members/$25 for nonmembers).  However\, it is highly recommended that
  participants attend Day 1 before attending Day 2.\n\n<b>This course is pe
 nding approval by the National Association of Social Workers\, Delaware Ch
 apter for 10.5 contact hours of continuing education credit.</b>
X-WR-RELCALID:9f613b51814ca0a38f64b028443ee7d0
X-WR-TIMEZONE:America/New_York
BEGIN:VTIMEZONE
TZID:America/New_York
BEGIN:STANDARD
TZNAME:EST
DTSTART:20191103T020000
TZOFFSETFROM:-0400
TZOFFSETTO:-0500
RDATE:20201101T020000
RDATE:20211107T020000
END:STANDARD
BEGIN:DAYLIGHT
TZNAME:EDT
DTSTART:20200308T020000
TZOFFSETFROM:-0500
TZOFFSETTO:-0400
RDATE:20210314T020000
END:DAYLIGHT
END:VTIMEZONE
BEGIN:VEVENT
UID:cbbda808-5e6c-40cc-83e4-0302f59d9cdf
DTSTAMP:20260421T115315Z
DESCRIPTION:<b>Due to the current public health crisis\, we have canceled t
 his training.  We hope to be able to hold our September 16-17 session as s
 cheduled. </b>\n\nDCADV offers a semi-annual two-day Domestic Violence 101
  (DV101) Training.  DV101 is the Coalition’s signature training event and 
 attracts a multidisciplinary audience from across the state.  Participants
  typically include domestic violence service providers\, nonprofit organiz
 ations\, law enforcement agencies\, and state employees working on issues 
 ranging from behavioral health services to human resources to the criminal
  justice system.  DV101 provides an overview of the dynamics and prevalenc
 e of domestic violence\, and teaches participants effective advocacy skill
 s that support safety and empowerment across systems.  \n\nTopics covered 
 during the training include:\n- History & Culture of Domestic Violence\n- 
 Dynamics of Abusive Relationships\n- Empowerment Advocacy\n- Risk Assessme
 nt\n- Safety Planning\n- Community Resources\n- Criminal Justice and Civil
  Justice Systems\n- Protection from Abuse Orders\n- Trauma-Informed Servic
 es\n- Prevention & Social Change\n\n<b>Dates:</b>\nTuesday\, June 23 and W
 ednesday\, June 24\, 2020\n\n<b>Location:</b>\nCommunity Service Building
 \n100 W. 10th St.\, Room 105\nWilmington\, DE 19801\n\n<b>Times:</b>\n8:30
  a.m. - 9:00 a.m. Registration/Check In\n9:00 a.m. - 4:00 p.m. Workshop wi
 th breaks\n<i>*Lunch will not be provided.  There will be a 75-minute brea
 k for lunch.  Participants may leave the training facility to purchase a m
 eal or bring a packed lunch.</i>\n\n<b>Registration Fees:</b>\n$40.00 (bot
 h days)- Delaware Certified Domestic Violence Specialists\, DCADV Member O
 rganizations\, and Current DCADV Supporting Members\n$50.00 (both days)- N
 onmembers\n<i>Not sure if you're a member? </i>  <a href='https://dcadv.or
 g/who-we-are/members/current-members.html'>Click here to view a list of ou
 r current members </a> \n\n*Single day registration is also available ($20
  for members/$25 for nonmembers).  However\, it is highly recommended that
  participants attend Day 1 before attending Day 2.\n\n<b>This course is pe
 nding approval by the National Association of Social Workers\, Delaware Ch
 apter for 10.5 contact hours of continuing education credit.</b>
DTSTART;TZID=America/New_York:20200623T090000
DTEND;TZID=America/New_York:20200624T160000
LOCATION:Wilmington\, DE
SUMMARY:CANCELED- Domestic Violence 101 Training
END:VEVENT
END:VCALENDAR
