BEGIN:VCALENDAR
VERSION:2.0
PRODID:-//dcadv.org//NONSGML kigkonsult.se iCalcreator 2.30.10//
CALSCALE:GREGORIAN
METHOD:PUBLISH
UID:2a7053d8-4698-41eb-b18a-2c88e192c01e
X-WR-CALDESC:DCADV's office will be closed on Friday\, July 3\, 2020 in obs
 ervance of Independence Day.\n\nDelaware's domestic violence hotlines are 
 available 24/7 to assist those in need of support.\n\nNew Castle County: 3
 02-762-6110\nKent and Sussex Counties: 302-422-8058\nAbriendo Puertas (Ken
 t and Sussex): 302-745-9874
X-WR-RELCALID:0a50d730b9a24e47669a87a43b6d43d2
X-WR-TIMEZONE:America/New_York
BEGIN:VTIMEZONE
TZID:America/New_York
BEGIN:STANDARD
TZNAME:EST
DTSTART:20191103T020000
TZOFFSETFROM:-0400
TZOFFSETTO:-0500
RDATE:20201101T020000
RDATE:20211107T020000
END:STANDARD
BEGIN:DAYLIGHT
TZNAME:EDT
DTSTART:20200308T020000
TZOFFSETFROM:-0500
TZOFFSETTO:-0400
RDATE:20210314T020000
END:DAYLIGHT
END:VTIMEZONE
BEGIN:VEVENT
UID:7b302346-43b9-4439-be94-b1d9787e6e02
DTSTAMP:20260421T103303Z
DESCRIPTION:DCADV's office will be closed on Friday\, July 3\, 2020 in obse
 rvance of Independence Day.\n\nDelaware's domestic violence hotlines are a
 vailable 24/7 to assist those in need of support.\n\nNew Castle County: 30
 2-762-6110\nKent and Sussex Counties: 302-422-8058\nAbriendo Puertas (Kent
  and Sussex): 302-745-9874
DTSTART;TZID=America/New_York:20200703T000000
DTEND;TZID=America/New_York:20200703T235900
LOCATION:
SUMMARY:DCADV Office Closed
END:VEVENT
END:VCALENDAR
