BEGIN:VCALENDAR
VERSION:2.0
PRODID:-//dcadv.org//NONSGML kigkonsult.se iCalcreator 2.30.10//
CALSCALE:GREGORIAN
METHOD:PUBLISH
UID:a71946d1-3354-45a0-a030-72bf59d4683a
X-WR-CALDESC:Prevention of sexual and intimate partner violence requires co
 mprehensive strategies that address risk and protective factors at all lev
 els of the social ecology. This webinar will focus on community-level prim
 ary prevention including a review of the risk factors\, the difference bet
 ween community-level and community-based prevention\, and practical applic
 ation examples for preventionists to consider in their practice.\n\n<b>Pre
 senters:</b>\n-Sarah Bear\, Prevention Director\, DCADV\n-Nikki Kress\, RP
 E Program Manager\, DCADV\n\nPlease note that this event is limited to 100
  participants in the live webinar.  Anyone who registers will receive a li
 nk to the recording after the webinar.
X-WR-RELCALID:37334822e67cf717a277a1a0f22af526
X-WR-TIMEZONE:America/New_York
BEGIN:VTIMEZONE
TZID:America/New_York
BEGIN:STANDARD
TZNAME:EST
DTSTART:20191103T020000
TZOFFSETFROM:-0400
TZOFFSETTO:-0500
RDATE:20201101T020000
RDATE:20211107T020000
END:STANDARD
BEGIN:DAYLIGHT
TZNAME:EDT
DTSTART:20200308T020000
TZOFFSETFROM:-0500
TZOFFSETTO:-0400
RDATE:20210314T020000
END:DAYLIGHT
END:VTIMEZONE
BEGIN:VEVENT
UID:ebc63314-b823-4b90-ac95-4f3b47235b4e
DTSTAMP:20260421T103037Z
DESCRIPTION:Prevention of sexual and intimate partner violence requires com
 prehensive strategies that address risk and protective factors at all leve
 ls of the social ecology. This webinar will focus on community-level prima
 ry prevention including a review of the risk factors\, the difference betw
 een community-level and community-based prevention\, and practical applica
 tion examples for preventionists to consider in their practice.\n\n<b>Pres
 enters:</b>\n-Sarah Bear\, Prevention Director\, DCADV\n-Nikki Kress\, RPE
  Program Manager\, DCADV\n\nPlease note that this event is limited to 100 
 participants in the live webinar.  Anyone who registers will receive a lin
 k to the recording after the webinar.
DTSTART;TZID=America/New_York:20200709T100000
DTEND;TZID=America/New_York:20200709T113000
LOCATION:Webinar
SUMMARY:Webinar: Shifting the Systems: A Community-Level Approach to Violen
 ce Prevention
END:VEVENT
END:VCALENDAR
