BEGIN:VCALENDAR
VERSION:2.0
PRODID:-//dcadv.org//NONSGML kigkonsult.se iCalcreator 2.30.10//
CALSCALE:GREGORIAN
METHOD:PUBLISH
UID:8aeadd47-4f32-4bcd-9a93-c5ba332e9f54
X-WR-CALDESC:**As part of our continuing commitment to victims/survivors in
  Delaware and building the capacity of the agencies/systems that serve the
 m\, this webinar is intended for those working within the state of Delawar
 e with domestic/sexual violence survivors in community-based or systems-ba
 sed agencies/organizations.**\n\nThis interactive training includes a nuan
 ced introductory conversation about oppression\, its varied forms and our 
 individual roles in perpetuating it. Participants will also explore the dy
 namics of how power is cultivated\, achieved\, and maintained by certain s
 ocietal groups. The training will illustrate how power is honed and used t
 o marginalize and oppress certain segments of our society. More specifical
 ly the group will discuss how the intersection of oppression and power has
  impacted the ways in which the domestic and sexual violence movement has 
 evolved. Finally\, the group will discuss how these dynamics may manifest 
 in our day-to-day work. The training will include individual and small gro
 up activities. Group agreements will be established at the beginning of th
 e session to promote respectful\, honest and self-reflective dialogues. \n
 \nBy the conclusion of the webinar\, participants will be able to:\n      
 1. Define oppression and articulate its multiple manifestations in U.S. so
 ciety.\n      2. Identify how oppression impacts our individual work and t
 he domestic/sexual violence movement at large.\n      3. Recognize how the
  culture of power has evolved in many of our organizations and the DV/SA s
 ector in general.\n\n<b>Presenters:</b>\n-Jessica Ayden Li\, Healing Equit
 y United\n-Fiona Oliphant\, Healing Equity United\n\n<b>Approved registran
 ts will receive the link to connect to the webinar a few days prior to the
  event.  Please note that this event is limited to 100 participants in the
  live webinar.  This webinar will be recorded.  If you won't be able to at
 tend\, but would still like to receive a link to the recording and any mat
 erials\, we encourage you to register.</b>
X-WR-RELCALID:5bb7271d477993c7e50372fa6297799e
X-WR-TIMEZONE:America/New_York
BEGIN:VTIMEZONE
TZID:America/New_York
BEGIN:STANDARD
TZNAME:EST
DTSTART:20191103T020000
TZOFFSETFROM:-0400
TZOFFSETTO:-0500
RDATE:20201101T020000
RDATE:20211107T020000
END:STANDARD
BEGIN:DAYLIGHT
TZNAME:EDT
DTSTART:20200308T020000
TZOFFSETFROM:-0500
TZOFFSETTO:-0400
RDATE:20210314T020000
END:DAYLIGHT
END:VTIMEZONE
BEGIN:VEVENT
UID:fccf56d5-5541-4269-9cbf-82f6926aba4a
DTSTAMP:20260421T103210Z
DESCRIPTION:**As part of our continuing commitment to victims/survivors in 
 Delaware and building the capacity of the agencies/systems that serve them
 \, this webinar is intended for those working within the state of Delaware
  with domestic/sexual violence survivors in community-based or systems-bas
 ed agencies/organizations.**\n\nThis interactive training includes a nuanc
 ed introductory conversation about oppression\, its varied forms and our i
 ndividual roles in perpetuating it. Participants will also explore the dyn
 amics of how power is cultivated\, achieved\, and maintained by certain so
 cietal groups. The training will illustrate how power is honed and used to
  marginalize and oppress certain segments of our society. More specificall
 y the group will discuss how the intersection of oppression and power has 
 impacted the ways in which the domestic and sexual violence movement has e
 volved. Finally\, the group will discuss how these dynamics may manifest i
 n our day-to-day work. The training will include individual and small grou
 p activities. Group agreements will be established at the beginning of the
  session to promote respectful\, honest and self-reflective dialogues. \n
 \nBy the conclusion of the webinar\, participants will be able to:\n      
 1. Define oppression and articulate its multiple manifestations in U.S. so
 ciety.\n      2. Identify how oppression impacts our individual work and t
 he domestic/sexual violence movement at large.\n      3. Recognize how the
  culture of power has evolved in many of our organizations and the DV/SA s
 ector in general.\n\n<b>Presenters:</b>\n-Jessica Ayden Li\, Healing Equit
 y United\n-Fiona Oliphant\, Healing Equity United\n\n<b>Approved registran
 ts will receive the link to connect to the webinar a few days prior to the
  event.  Please note that this event is limited to 100 participants in the
  live webinar.  This webinar will be recorded.  If you won't be able to at
 tend\, but would still like to receive a link to the recording and any mat
 erials\, we encourage you to register.</b>
DTSTART;TZID=America/New_York:20200721T100000
DTEND;TZID=America/New_York:20200721T120000
LOCATION:Webinar
SUMMARY:Oppression & the Culture of Power Within the Domestic & Sexual Viol
 ence Movement
END:VEVENT
END:VCALENDAR
