BEGIN:VCALENDAR
VERSION:2.0
PRODID:-//dcadv.org//NONSGML kigkonsult.se iCalcreator 2.30.10//
CALSCALE:GREGORIAN
METHOD:PUBLISH
UID:4f51e426-f8f3-444d-89c4-6a5a80890752
X-WR-CALDESC:<a href='https://dcadv.coalitionmanager.org/eventmanager/Train
 ingEvent/Details/278'>LEARN MORE AND REGISTER</a>\n\nDCADV offers a semi-a
 nnual two-day Domestic Violence 101 (DV101) Training.  DV101 is the Coalit
 ion’s signature training event and attracts a multidisciplinary audience f
 rom across the state.  Participants typically include domestic violence se
 rvice providers\, nonprofit organizations\, law enforcement agencies\, and
  state employees working on issues ranging from behavioral health services
  to human resources to the criminal justice system.  DV101 provides an ove
 rview of the dynamics and prevalence of domestic violence\, and teaches pa
 rticipants effective advocacy skills that support safety and empowerment a
 cross systems.  \n\nTopics covered during the training include:\n- History
  & Culture of Domestic Violence\n- Dynamics of Abusive Relationships\n- Em
 powerment Advocacy\n- Risk Assessment\n- Safety Planning\n- Community Reso
 urces\n- Criminal Justice and Civil Justice Systems\n- Protection from Abu
 se Orders\n- Trauma-Informed Services\n- Prevention & Social Change\n\n<b>
 Dates:</b>\nWednesday\, June 3 and Thursday\, June 4\, 2026\n\n<b>Location
 :</b>\nDelaware State Troopers Association\n6349 North Dupont Highway\nDov
 er\, DE 19901\n\n\n<b>Times:</b>\n8:30 a.m. - 9:00 a.m. Registration/Check
  In\n9:00 a.m. - 4:00 p.m. Workshop with breaks\n<i>*Lunch will not be pro
 vided.  There will be a 75-minute break for lunch.  Participants may leave
  the training facility to purchase a meal or bring a packed lunch.</i>\n\n
 <b>Registration Fees:</b>\n$70.00 (both days)- Delaware Certified Domestic
  Violence Specialists\, DCADV Member Organizations\, and Current DCADV Sup
 porting Members\n$90.00 (both days)- Nonmembers\n<i>Not sure if you're a m
 ember? </i>  <a href='https://dcadv.org/who-we-are/members/current-members
 .html'>Click here to view a list of our current members </a> \n\n*Single d
 ay registration is also available ($35 for members/$45 for nonmembers).  H
 owever\, it is highly recommended that participants attend Day 1 before at
 tending Day 2.\n
X-WR-RELCALID:5302414a2acb38b4ceeb04db541093c6
X-WR-TIMEZONE:America/New_York
BEGIN:VTIMEZONE
TZID:America/New_York
BEGIN:STANDARD
TZNAME:EST
DTSTART:20251102T020000
TZOFFSETFROM:-0400
TZOFFSETTO:-0500
RDATE:20261101T020000
RDATE:20271107T020000
END:STANDARD
BEGIN:DAYLIGHT
TZNAME:EDT
DTSTART:20260308T020000
TZOFFSETFROM:-0500
TZOFFSETTO:-0400
RDATE:20270314T020000
END:DAYLIGHT
END:VTIMEZONE
BEGIN:VEVENT
UID:9a8ccee6-d963-4225-ac15-83a6f6f8f991
DTSTAMP:20260424T001820Z
DESCRIPTION:<a href='https://dcadv.coalitionmanager.org/eventmanager/Traini
 ngEvent/Details/278'>LEARN MORE AND REGISTER</a>\n\nDCADV offers a semi-an
 nual two-day Domestic Violence 101 (DV101) Training.  DV101 is the Coaliti
 on’s signature training event and attracts a multidisciplinary audience fr
 om across the state.  Participants typically include domestic violence ser
 vice providers\, nonprofit organizations\, law enforcement agencies\, and 
 state employees working on issues ranging from behavioral health services 
 to human resources to the criminal justice system.  DV101 provides an over
 view of the dynamics and prevalence of domestic violence\, and teaches par
 ticipants effective advocacy skills that support safety and empowerment ac
 ross systems.  \n\nTopics covered during the training include:\n- History 
 & Culture of Domestic Violence\n- Dynamics of Abusive Relationships\n- Emp
 owerment Advocacy\n- Risk Assessment\n- Safety Planning\n- Community Resou
 rces\n- Criminal Justice and Civil Justice Systems\n- Protection from Abus
 e Orders\n- Trauma-Informed Services\n- Prevention & Social Change\n\n<b>D
 ates:</b>\nWednesday\, June 3 and Thursday\, June 4\, 2026\n\n<b>Location:
 </b>\nDelaware State Troopers Association\n6349 North Dupont Highway\nDove
 r\, DE 19901\n\n\n<b>Times:</b>\n8:30 a.m. - 9:00 a.m. Registration/Check 
 In\n9:00 a.m. - 4:00 p.m. Workshop with breaks\n<i>*Lunch will not be prov
 ided.  There will be a 75-minute break for lunch.  Participants may leave 
 the training facility to purchase a meal or bring a packed lunch.</i>\n\n<
 b>Registration Fees:</b>\n$70.00 (both days)- Delaware Certified Domestic 
 Violence Specialists\, DCADV Member Organizations\, and Current DCADV Supp
 orting Members\n$90.00 (both days)- Nonmembers\n<i>Not sure if you're a me
 mber? </i>  <a href='https://dcadv.org/who-we-are/members/current-members.
 html'>Click here to view a list of our current members </a> \n\n*Single da
 y registration is also available ($35 for members/$45 for nonmembers).  Ho
 wever\, it is highly recommended that participants attend Day 1 before att
 ending Day 2.\n
DTSTART;TZID=America/New_York:20260603T090000
DTEND;TZID=America/New_York:20260604T160000
LOCATION:Dover\, DE
SUMMARY:Domestic Violence 101 Training
END:VEVENT
END:VCALENDAR
