BEGIN:VCALENDAR
VERSION:2.0
PRODID:-//dcadv.org//NONSGML kigkonsult.se iCalcreator 2.30.10//
CALSCALE:GREGORIAN
METHOD:PUBLISH
UID:427c4957-7477-4095-89a5-4f147bb8e92a
X-WR-CALDESC:This webinar will focus on building supportive\, welcoming env
 ironments in everyday life - at home\, in the workplace\, in classrooms\, 
 and throughout the community. Participants will learn simple\, practical w
 ays to foster emotional safety and confidently start difficult conversatio
 ns. The presentation will also highlight Sean’s House as a model of a comm
 unity safe space\, including the peer support and mental health resources 
 it provides for young adults.\n\n<b>Presenter:</b> Angela Pugliese\, Direc
 tor\, Sean's House\nAngela Pugliese is the Director at Sean's House\, a me
 ntal health safe haven for teens and young adults as part of the SL24: UnL
 ocke the Light foundation in Newark\, Delaware. She spent the first decade
  of her career as an educator in Delaware high schools. She is deeply comm
 itted to creating safe\, brave spaces for vulnerable conversations and to 
 providing resources to the community supporting positive coping strategies
  and harm reduction. When not engaged in advocacy work\, you can find her 
 living by the three R's (reading\, reality tv\, and relaxing!) with her hu
 sband and two children.
X-WR-RELCALID:bae0bf473030467db424f5a296d8e279
X-WR-TIMEZONE:America/New_York
BEGIN:VTIMEZONE
TZID:America/New_York
BEGIN:STANDARD
TZNAME:EST
DTSTART:20251102T020000
TZOFFSETFROM:-0400
TZOFFSETTO:-0500
RDATE:20261101T020000
RDATE:20271107T020000
END:STANDARD
BEGIN:DAYLIGHT
TZNAME:EDT
DTSTART:20260308T020000
TZOFFSETFROM:-0500
TZOFFSETTO:-0400
RDATE:20270314T020000
END:DAYLIGHT
END:VTIMEZONE
BEGIN:VEVENT
UID:331f5d63-034b-423b-a211-73414ea88ecb
DTSTAMP:20260424T001512Z
DESCRIPTION:This webinar will focus on building supportive\, welcoming envi
 ronments in everyday life - at home\, in the workplace\, in classrooms\, a
 nd throughout the community. Participants will learn simple\, practical wa
 ys to foster emotional safety and confidently start difficult conversation
 s. The presentation will also highlight Sean’s House as a model of a commu
 nity safe space\, including the peer support and mental health resources i
 t provides for young adults.\n\n<b>Presenter:</b> Angela Pugliese\, Direct
 or\, Sean's House\nAngela Pugliese is the Director at Sean's House\, a men
 tal health safe haven for teens and young adults as part of the SL24: UnLo
 cke the Light foundation in Newark\, Delaware. She spent the first decade 
 of her career as an educator in Delaware high schools. She is deeply commi
 tted to creating safe\, brave spaces for vulnerable conversations and to p
 roviding resources to the community supporting positive coping strategies 
 and harm reduction. When not engaged in advocacy work\, you can find her l
 iving by the three R's (reading\, reality tv\, and relaxing!) with her hus
 band and two children.
DTSTART;TZID=America/New_York:20260610T130000
DTEND;TZID=America/New_York:20260610T140000
LOCATION:https://dcadv.coalitionmanager.org/eventmanager/TrainingEvent/Deta
 ils/281
SUMMARY:Webinar: Creating Safe Spaces
END:VEVENT
END:VCALENDAR
