BEGIN:VCALENDAR
VERSION:2.0
PRODID:-//dcadv.org//NONSGML kigkonsult.se iCalcreator 2.30.10//
CALSCALE:GREGORIAN
METHOD:PUBLISH
UID:7158fa3e-1b10-49cb-bcdc-5f4cc2747f1b
X-WR-CALDESC:
X-WR-RELCALID:6a8230dfa5af9834c56b526725e6a4b6
X-WR-TIMEZONE:America/New_York
BEGIN:VTIMEZONE
TZID:America/New_York
BEGIN:STANDARD
TZNAME:EST
DTSTART:20271107T020000
TZOFFSETFROM:-0400
TZOFFSETTO:-0500
RDATE:20281105T020000
END:STANDARD
BEGIN:DAYLIGHT
TZNAME:EDT
DTSTART:20280312T020000
TZOFFSETFROM:-0500
TZOFFSETTO:-0400
RDATE:20290311T020000
END:DAYLIGHT
END:VTIMEZONE
BEGIN:VEVENT
UID:86d3d914-017b-4431-b7b7-bf66c3720033
DTSTAMP:20260421T102157Z
DESCRIPTION:
DTSTART;TZID=America/New_York:20280401T000000
DTEND;TZID=America/New_York:20280401T235900
LOCATION:
SUMMARY:April is Child Abuse Prevention Month
END:VEVENT
END:VCALENDAR
