BEGIN:VCALENDAR
VERSION:2.0
PRODID:-//dcadv.org//NONSGML kigkonsult.se iCalcreator 2.30.10//
CALSCALE:GREGORIAN
METHOD:PUBLISH
UID:e0b72e56-8f30-4f59-be9d-6c19c1652a54
X-WR-CALDESC:
X-WR-RELCALID:75ac8e06f1de4339a9354d1e5f1bf14b
X-WR-TIMEZONE:America/New_York
BEGIN:VTIMEZONE
TZID:America/New_York
BEGIN:STANDARD
TZNAME:EST
DTSTART:20271107T020000
TZOFFSETFROM:-0400
TZOFFSETTO:-0500
RDATE:20281105T020000
END:STANDARD
BEGIN:DAYLIGHT
TZNAME:EDT
DTSTART:20280312T020000
TZOFFSETFROM:-0500
TZOFFSETTO:-0400
RDATE:20290311T020000
END:DAYLIGHT
END:VTIMEZONE
BEGIN:VEVENT
UID:c5db16a5-8cfa-4604-b0ed-5178b5b5d0ff
DTSTAMP:20260421T101725Z
DESCRIPTION:
DTSTART;TZID=America/New_York:20280401T000000
DTEND;TZID=America/New_York:20280401T235900
LOCATION:
SUMMARY:April is Sexual Assault Awareness Month
END:VEVENT
END:VCALENDAR
