BEGIN:VCALENDAR
VERSION:2.0
PRODID:-//dcadv.org//NONSGML kigkonsult.se iCalcreator 2.30.10//
CALSCALE:GREGORIAN
METHOD:PUBLISH
UID:0e6f0bb1-fff6-4803-a890-cf2dd21b7d19
X-WR-CALDESC:
X-WR-RELCALID:68b3aa15c50293eae108abe9aef87dbe
X-WR-TIMEZONE:America/New_York
BEGIN:VTIMEZONE
TZID:America/New_York
BEGIN:STANDARD
TZNAME:EST
DTSTART:20271107T020000
TZOFFSETFROM:-0400
TZOFFSETTO:-0500
RDATE:20281105T020000
END:STANDARD
BEGIN:DAYLIGHT
TZNAME:EDT
DTSTART:20280312T020000
TZOFFSETFROM:-0500
TZOFFSETTO:-0400
RDATE:20290311T020000
END:DAYLIGHT
END:VTIMEZONE
BEGIN:VEVENT
UID:51ca1e12-0a48-4642-98ff-befa7b7c3ea7
DTSTAMP:20260421T120112Z
DESCRIPTION:
DTSTART;TZID=America/New_York:20280501T000000
DTEND;TZID=America/New_York:20280501T235900
LOCATION:
SUMMARY:May is National Trauma Awareness Month
END:VEVENT
END:VCALENDAR
