BEGIN:VCALENDAR
VERSION:2.0
PRODID:-//dcadv.org//NONSGML kigkonsult.se iCalcreator 2.30.10//
CALSCALE:GREGORIAN
METHOD:PUBLISH
UID:7eb3b2e7-b10a-4942-8886-57be7e9c8d04
X-WR-CALDESC:
X-WR-RELCALID:799f2dfe78d2dd5ba9d42c2da91cd87b
X-WR-TIMEZONE:America/New_York
BEGIN:VTIMEZONE
TZID:America/New_York
BEGIN:STANDARD
TZNAME:EST
DTSTART:20271107T020000
TZOFFSETFROM:-0400
TZOFFSETTO:-0500
RDATE:20281105T020000
RDATE:20291104T020000
END:STANDARD
BEGIN:DAYLIGHT
TZNAME:EDT
DTSTART:20280312T020000
TZOFFSETFROM:-0500
TZOFFSETTO:-0400
RDATE:20290311T020000
RDATE:20300310T020000
END:DAYLIGHT
END:VTIMEZONE
BEGIN:VEVENT
UID:8671a7b0-5c41-4867-a8be-7fd4529ce55e
DTSTAMP:20260421T204349Z
DESCRIPTION:
DTSTART;TZID=America/New_York:20281001T000000
DTEND;TZID=America/New_York:20281001T235900
LOCATION:
SUMMARY:October is Domestic Violence Awareness Month
END:VEVENT
END:VCALENDAR
