BEGIN:VCALENDAR
VERSION:2.0
PRODID:-//dcadv.org//NONSGML kigkonsult.se iCalcreator 2.30.10//
CALSCALE:GREGORIAN
METHOD:PUBLISH
UID:4956f893-c6f5-4c86-9eed-574d8e27b152
X-WR-CALDESC:
X-WR-RELCALID:112629cf5f02d5784f9f07ccd5f19883
X-WR-TIMEZONE:America/New_York
BEGIN:VTIMEZONE
TZID:America/New_York
BEGIN:STANDARD
TZNAME:EST
DTSTART:20281105T020000
TZOFFSETFROM:-0400
TZOFFSETTO:-0500
RDATE:20291104T020000
END:STANDARD
BEGIN:DAYLIGHT
TZNAME:EDT
DTSTART:20290311T020000
TZOFFSETFROM:-0500
TZOFFSETTO:-0400
RDATE:20300310T020000
END:DAYLIGHT
END:VTIMEZONE
BEGIN:VEVENT
UID:b9d801ac-060b-4049-8716-b455adaed547
DTSTAMP:20260422T091856Z
DESCRIPTION:
DTSTART;TZID=America/New_York:20290501T000000
DTEND;TZID=America/New_York:20290501T235900
LOCATION:
SUMMARY:May is National Trauma Awareness Month
END:VEVENT
END:VCALENDAR
