BEGIN:VCALENDAR
VERSION:2.0
PRODID:-//dcadv.org//NONSGML kigkonsult.se iCalcreator 2.30.10//
CALSCALE:GREGORIAN
METHOD:PUBLISH
UID:6d0bb404-e26c-44d1-8604-5767cad1c1d8
X-WR-CALDESC:
X-WR-RELCALID:cc3b145ccbfe4ccabf914ff07920210c
X-WR-TIMEZONE:America/New_York
BEGIN:VTIMEZONE
TZID:America/New_York
BEGIN:STANDARD
TZNAME:EST
DTSTART:20281105T020000
TZOFFSETFROM:-0400
TZOFFSETTO:-0500
RDATE:20291104T020000
RDATE:20301103T020000
END:STANDARD
BEGIN:DAYLIGHT
TZNAME:EDT
DTSTART:20290311T020000
TZOFFSETFROM:-0500
TZOFFSETTO:-0400
RDATE:20300310T020000
RDATE:20310309T020000
END:DAYLIGHT
END:VTIMEZONE
BEGIN:VEVENT
UID:105fbf9a-5b7c-41fe-a703-c2934b4cc6c5
DTSTAMP:20260422T171802Z
DESCRIPTION:
DTSTART;TZID=America/New_York:20291001T000000
DTEND;TZID=America/New_York:20291001T235900
LOCATION:
SUMMARY:October is Domestic Violence Awareness Month
END:VEVENT
END:VCALENDAR
