BEGIN:VCALENDAR
VERSION:2.0
PRODID:-//dcadv.org//NONSGML kigkonsult.se iCalcreator 2.30.10//
CALSCALE:GREGORIAN
METHOD:PUBLISH
UID:87d2d883-adfc-4245-82d4-3cb400188843
X-WR-CALDESC:
X-WR-RELCALID:84277077b008476f4edf5d968baa73b4
X-WR-TIMEZONE:America/New_York
BEGIN:VTIMEZONE
TZID:America/New_York
BEGIN:STANDARD
TZNAME:EST
DTSTART:20291104T020000
TZOFFSETFROM:-0400
TZOFFSETTO:-0500
RDATE:20301103T020000
END:STANDARD
BEGIN:DAYLIGHT
TZNAME:EDT
DTSTART:20300310T020000
TZOFFSETFROM:-0500
TZOFFSETTO:-0400
RDATE:20310309T020000
END:DAYLIGHT
END:VTIMEZONE
BEGIN:VEVENT
UID:deab2369-dc25-49a6-8340-3021f21fbad1
DTSTAMP:20260423T033810Z
DESCRIPTION:
DTSTART;TZID=America/New_York:20300401T000000
DTEND;TZID=America/New_York:20300401T235900
LOCATION:
SUMMARY:April is Child Abuse Prevention Month
END:VEVENT
END:VCALENDAR
