BEGIN:VCALENDAR
VERSION:2.0
PRODID:-//dcadv.org//NONSGML kigkonsult.se iCalcreator 2.30.10//
CALSCALE:GREGORIAN
METHOD:PUBLISH
UID:1a612e18-f5a9-4bf3-acbd-402a5b2edcd1
X-WR-CALDESC:
X-WR-RELCALID:d8e4c83ca3dcc434e7e40f4d4d23fcb5
X-WR-TIMEZONE:America/New_York
BEGIN:VTIMEZONE
TZID:America/New_York
BEGIN:STANDARD
TZNAME:EST
DTSTART:20291104T020000
TZOFFSETFROM:-0400
TZOFFSETTO:-0500
RDATE:20301103T020000
END:STANDARD
BEGIN:DAYLIGHT
TZNAME:EDT
DTSTART:20300310T020000
TZOFFSETFROM:-0500
TZOFFSETTO:-0400
RDATE:20310309T020000
END:DAYLIGHT
END:VTIMEZONE
BEGIN:VEVENT
UID:5fbda535-ac78-47af-af25-08fe3e3cc7cf
DTSTAMP:20260423T033302Z
DESCRIPTION:
DTSTART;TZID=America/New_York:20300401T000000
DTEND;TZID=America/New_York:20300401T235900
LOCATION:
SUMMARY:April is Sexual Assault Awareness Month
END:VEVENT
END:VCALENDAR
