BEGIN:VCALENDAR
VERSION:2.0
PRODID:-//dcadv.org//NONSGML kigkonsult.se iCalcreator 2.30.10//
CALSCALE:GREGORIAN
METHOD:PUBLISH
UID:fe745f92-73c2-46ed-a480-adf5a34c473c
X-WR-CALDESC:
X-WR-RELCALID:c0f6cfedc22905cced06515e491b1bfa
X-WR-TIMEZONE:America/New_York
BEGIN:VTIMEZONE
TZID:America/New_York
BEGIN:STANDARD
TZNAME:EST
DTSTART:20291104T020000
TZOFFSETFROM:-0400
TZOFFSETTO:-0500
RDATE:20301103T020000
END:STANDARD
BEGIN:DAYLIGHT
TZNAME:EDT
DTSTART:20300310T020000
TZOFFSETFROM:-0500
TZOFFSETTO:-0400
RDATE:20310309T020000
END:DAYLIGHT
END:VTIMEZONE
BEGIN:VEVENT
UID:4266f241-4ee5-406a-8c4c-11db3bff5296
DTSTAMP:20260423T051331Z
DESCRIPTION:
DTSTART;TZID=America/New_York:20300501T000000
DTEND;TZID=America/New_York:20300501T235900
LOCATION:
SUMMARY:May is National Trauma Awareness Month
END:VEVENT
END:VCALENDAR
